BEGIN:VCALENDAR
VERSION:2.0
PRODID:-//The Episcopal Church of St. Thomas - ECPv6.15.12.2//NONSGML v1.0//EN
CALSCALE:GREGORIAN
METHOD:PUBLISH
X-ORIGINAL-URL:https://stthomastaunton.com
X-WR-CALDESC:Events for The Episcopal Church of St. Thomas
REFRESH-INTERVAL;VALUE=DURATION:PT1H
X-Robots-Tag:noindex
X-PUBLISHED-TTL:PT1H
BEGIN:VTIMEZONE
TZID:America/New_York
BEGIN:DAYLIGHT
TZOFFSETFROM:-0500
TZOFFSETTO:-0400
TZNAME:EDT
DTSTART:20280312T070000
END:DAYLIGHT
BEGIN:STANDARD
TZOFFSETFROM:-0400
TZOFFSETTO:-0500
TZNAME:EST
DTSTART:20281105T060000
END:STANDARD
BEGIN:DAYLIGHT
TZOFFSETFROM:-0500
TZOFFSETTO:-0400
TZNAME:EDT
DTSTART:20290311T070000
END:DAYLIGHT
BEGIN:STANDARD
TZOFFSETFROM:-0400
TZOFFSETTO:-0500
TZNAME:EST
DTSTART:20291104T060000
END:STANDARD
BEGIN:DAYLIGHT
TZOFFSETFROM:-0500
TZOFFSETTO:-0400
TZNAME:EDT
DTSTART:20300310T070000
END:DAYLIGHT
BEGIN:STANDARD
TZOFFSETFROM:-0400
TZOFFSETTO:-0500
TZNAME:EST
DTSTART:20301103T060000
END:STANDARD
BEGIN:DAYLIGHT
TZOFFSETFROM:-0500
TZOFFSETTO:-0400
TZNAME:EDT
DTSTART:20310309T070000
END:DAYLIGHT
BEGIN:STANDARD
TZOFFSETFROM:-0400
TZOFFSETTO:-0500
TZNAME:EST
DTSTART:20311102T060000
END:STANDARD
END:VTIMEZONE
BEGIN:VEVENT
DTSTART;TZID=America/New_York:20290729T100000
DTEND;TZID=America/New_York:20290729T110000
DTSTAMP:20260420T012051
CREATED:20230908T153154Z
LAST-MODIFIED:20240514T163553Z
UID:10000419-1880013600-1880017200@stthomastaunton.com
SUMMARY:Service of Holy Eucharist
DESCRIPTION:Join us Sunday mornings at 10:00 am in the Sanctuary for the Service of Holy Eucharist.  This is followed by fellowship in the parish hall.
URL:https://stthomastaunton.com/event/events-3-2/2029-07-29/
LOCATION:Main Church
CATEGORIES:Worship
ATTACH;FMTTYPE=image/jpeg:https://stthomastaunton.com/wp-content/uploads/2024/05/Procession-Easter-Sunday-2022.jpg
END:VEVENT
BEGIN:VEVENT
DTSTART;TZID=America/New_York:20290805T100000
DTEND;TZID=America/New_York:20290805T110000
DTSTAMP:20260420T012051
CREATED:20230908T153154Z
LAST-MODIFIED:20240514T163553Z
UID:10000420-1880618400-1880622000@stthomastaunton.com
SUMMARY:Service of Holy Eucharist
DESCRIPTION:Join us Sunday mornings at 10:00 am in the Sanctuary for the Service of Holy Eucharist.  This is followed by fellowship in the parish hall.
URL:https://stthomastaunton.com/event/events-3-2/2029-08-05/
LOCATION:Main Church
CATEGORIES:Worship
ATTACH;FMTTYPE=image/jpeg:https://stthomastaunton.com/wp-content/uploads/2024/05/Procession-Easter-Sunday-2022.jpg
END:VEVENT
BEGIN:VEVENT
DTSTART;TZID=America/New_York:20290812T100000
DTEND;TZID=America/New_York:20290812T110000
DTSTAMP:20260420T012051
CREATED:20230908T153154Z
LAST-MODIFIED:20240514T163553Z
UID:10000421-1881223200-1881226800@stthomastaunton.com
SUMMARY:Service of Holy Eucharist
DESCRIPTION:Join us Sunday mornings at 10:00 am in the Sanctuary for the Service of Holy Eucharist.  This is followed by fellowship in the parish hall.
URL:https://stthomastaunton.com/event/events-3-2/2029-08-12/
LOCATION:Main Church
CATEGORIES:Worship
ATTACH;FMTTYPE=image/jpeg:https://stthomastaunton.com/wp-content/uploads/2024/05/Procession-Easter-Sunday-2022.jpg
END:VEVENT
BEGIN:VEVENT
DTSTART;TZID=America/New_York:20290819T100000
DTEND;TZID=America/New_York:20290819T110000
DTSTAMP:20260420T012051
CREATED:20230908T153154Z
LAST-MODIFIED:20240514T163553Z
UID:10000422-1881828000-1881831600@stthomastaunton.com
SUMMARY:Service of Holy Eucharist
DESCRIPTION:Join us Sunday mornings at 10:00 am in the Sanctuary for the Service of Holy Eucharist.  This is followed by fellowship in the parish hall.
URL:https://stthomastaunton.com/event/events-3-2/2029-08-19/
LOCATION:Main Church
CATEGORIES:Worship
ATTACH;FMTTYPE=image/jpeg:https://stthomastaunton.com/wp-content/uploads/2024/05/Procession-Easter-Sunday-2022.jpg
END:VEVENT
BEGIN:VEVENT
DTSTART;TZID=America/New_York:20290826T100000
DTEND;TZID=America/New_York:20290826T110000
DTSTAMP:20260420T012051
CREATED:20230908T153154Z
LAST-MODIFIED:20240514T163553Z
UID:10000423-1882432800-1882436400@stthomastaunton.com
SUMMARY:Service of Holy Eucharist
DESCRIPTION:Join us Sunday mornings at 10:00 am in the Sanctuary for the Service of Holy Eucharist.  This is followed by fellowship in the parish hall.
URL:https://stthomastaunton.com/event/events-3-2/2029-08-26/
LOCATION:Main Church
CATEGORIES:Worship
ATTACH;FMTTYPE=image/jpeg:https://stthomastaunton.com/wp-content/uploads/2024/05/Procession-Easter-Sunday-2022.jpg
END:VEVENT
BEGIN:VEVENT
DTSTART;TZID=America/New_York:20290902T100000
DTEND;TZID=America/New_York:20290902T110000
DTSTAMP:20260420T012051
CREATED:20230908T153154Z
LAST-MODIFIED:20240514T163553Z
UID:10000424-1883037600-1883041200@stthomastaunton.com
SUMMARY:Service of Holy Eucharist
DESCRIPTION:Join us Sunday mornings at 10:00 am in the Sanctuary for the Service of Holy Eucharist.  This is followed by fellowship in the parish hall.
URL:https://stthomastaunton.com/event/events-3-2/2029-09-02/
LOCATION:Main Church
CATEGORIES:Worship
ATTACH;FMTTYPE=image/jpeg:https://stthomastaunton.com/wp-content/uploads/2024/05/Procession-Easter-Sunday-2022.jpg
END:VEVENT
BEGIN:VEVENT
DTSTART;TZID=America/New_York:20290909T100000
DTEND;TZID=America/New_York:20290909T110000
DTSTAMP:20260420T012051
CREATED:20230908T153154Z
LAST-MODIFIED:20240514T163553Z
UID:10000425-1883642400-1883646000@stthomastaunton.com
SUMMARY:Service of Holy Eucharist
DESCRIPTION:Join us Sunday mornings at 10:00 am in the Sanctuary for the Service of Holy Eucharist.  This is followed by fellowship in the parish hall.
URL:https://stthomastaunton.com/event/events-3-2/2029-09-09/
LOCATION:Main Church
CATEGORIES:Worship
ATTACH;FMTTYPE=image/jpeg:https://stthomastaunton.com/wp-content/uploads/2024/05/Procession-Easter-Sunday-2022.jpg
END:VEVENT
BEGIN:VEVENT
DTSTART;TZID=America/New_York:20290916T100000
DTEND;TZID=America/New_York:20290916T110000
DTSTAMP:20260420T012051
CREATED:20230908T153154Z
LAST-MODIFIED:20240514T163553Z
UID:10000426-1884247200-1884250800@stthomastaunton.com
SUMMARY:Service of Holy Eucharist
DESCRIPTION:Join us Sunday mornings at 10:00 am in the Sanctuary for the Service of Holy Eucharist.  This is followed by fellowship in the parish hall.
URL:https://stthomastaunton.com/event/events-3-2/2029-09-16/
LOCATION:Main Church
CATEGORIES:Worship
ATTACH;FMTTYPE=image/jpeg:https://stthomastaunton.com/wp-content/uploads/2024/05/Procession-Easter-Sunday-2022.jpg
END:VEVENT
BEGIN:VEVENT
DTSTART;TZID=America/New_York:20290923T100000
DTEND;TZID=America/New_York:20290923T110000
DTSTAMP:20260420T012051
CREATED:20230908T153154Z
LAST-MODIFIED:20240514T163553Z
UID:10000427-1884852000-1884855600@stthomastaunton.com
SUMMARY:Service of Holy Eucharist
DESCRIPTION:Join us Sunday mornings at 10:00 am in the Sanctuary for the Service of Holy Eucharist.  This is followed by fellowship in the parish hall.
URL:https://stthomastaunton.com/event/events-3-2/2029-09-23/
LOCATION:Main Church
CATEGORIES:Worship
ATTACH;FMTTYPE=image/jpeg:https://stthomastaunton.com/wp-content/uploads/2024/05/Procession-Easter-Sunday-2022.jpg
END:VEVENT
BEGIN:VEVENT
DTSTART;TZID=America/New_York:20290930T100000
DTEND;TZID=America/New_York:20290930T110000
DTSTAMP:20260420T012051
CREATED:20230908T153154Z
LAST-MODIFIED:20240514T163553Z
UID:10000428-1885456800-1885460400@stthomastaunton.com
SUMMARY:Service of Holy Eucharist
DESCRIPTION:Join us Sunday mornings at 10:00 am in the Sanctuary for the Service of Holy Eucharist.  This is followed by fellowship in the parish hall.
URL:https://stthomastaunton.com/event/events-3-2/2029-09-30/
LOCATION:Main Church
CATEGORIES:Worship
ATTACH;FMTTYPE=image/jpeg:https://stthomastaunton.com/wp-content/uploads/2024/05/Procession-Easter-Sunday-2022.jpg
END:VEVENT
BEGIN:VEVENT
DTSTART;TZID=America/New_York:20291007T100000
DTEND;TZID=America/New_York:20291007T110000
DTSTAMP:20260420T012051
CREATED:20230908T153154Z
LAST-MODIFIED:20240514T163553Z
UID:10000429-1886061600-1886065200@stthomastaunton.com
SUMMARY:Service of Holy Eucharist
DESCRIPTION:Join us Sunday mornings at 10:00 am in the Sanctuary for the Service of Holy Eucharist.  This is followed by fellowship in the parish hall.
URL:https://stthomastaunton.com/event/events-3-2/2029-10-07/
LOCATION:Main Church
CATEGORIES:Worship
ATTACH;FMTTYPE=image/jpeg:https://stthomastaunton.com/wp-content/uploads/2024/05/Procession-Easter-Sunday-2022.jpg
END:VEVENT
BEGIN:VEVENT
DTSTART;TZID=America/New_York:20291014T100000
DTEND;TZID=America/New_York:20291014T110000
DTSTAMP:20260420T012051
CREATED:20230908T153154Z
LAST-MODIFIED:20240514T163553Z
UID:10000430-1886666400-1886670000@stthomastaunton.com
SUMMARY:Service of Holy Eucharist
DESCRIPTION:Join us Sunday mornings at 10:00 am in the Sanctuary for the Service of Holy Eucharist.  This is followed by fellowship in the parish hall.
URL:https://stthomastaunton.com/event/events-3-2/2029-10-14/
LOCATION:Main Church
CATEGORIES:Worship
ATTACH;FMTTYPE=image/jpeg:https://stthomastaunton.com/wp-content/uploads/2024/05/Procession-Easter-Sunday-2022.jpg
END:VEVENT
BEGIN:VEVENT
DTSTART;TZID=America/New_York:20291021T100000
DTEND;TZID=America/New_York:20291021T110000
DTSTAMP:20260420T012051
CREATED:20230908T153154Z
LAST-MODIFIED:20240514T163553Z
UID:10000431-1887271200-1887274800@stthomastaunton.com
SUMMARY:Service of Holy Eucharist
DESCRIPTION:Join us Sunday mornings at 10:00 am in the Sanctuary for the Service of Holy Eucharist.  This is followed by fellowship in the parish hall.
URL:https://stthomastaunton.com/event/events-3-2/2029-10-21/
LOCATION:Main Church
CATEGORIES:Worship
ATTACH;FMTTYPE=image/jpeg:https://stthomastaunton.com/wp-content/uploads/2024/05/Procession-Easter-Sunday-2022.jpg
END:VEVENT
BEGIN:VEVENT
DTSTART;TZID=America/New_York:20291028T100000
DTEND;TZID=America/New_York:20291028T110000
DTSTAMP:20260420T012051
CREATED:20230908T153154Z
LAST-MODIFIED:20240514T163553Z
UID:10000432-1887876000-1887879600@stthomastaunton.com
SUMMARY:Service of Holy Eucharist
DESCRIPTION:Join us Sunday mornings at 10:00 am in the Sanctuary for the Service of Holy Eucharist.  This is followed by fellowship in the parish hall.
URL:https://stthomastaunton.com/event/events-3-2/2029-10-28/
LOCATION:Main Church
CATEGORIES:Worship
ATTACH;FMTTYPE=image/jpeg:https://stthomastaunton.com/wp-content/uploads/2024/05/Procession-Easter-Sunday-2022.jpg
END:VEVENT
BEGIN:VEVENT
DTSTART;TZID=America/New_York:20291104T100000
DTEND;TZID=America/New_York:20291104T110000
DTSTAMP:20260420T012051
CREATED:20230908T153154Z
LAST-MODIFIED:20240514T163553Z
UID:10000433-1888480800-1888484400@stthomastaunton.com
SUMMARY:Service of Holy Eucharist
DESCRIPTION:Join us Sunday mornings at 10:00 am in the Sanctuary for the Service of Holy Eucharist.  This is followed by fellowship in the parish hall.
URL:https://stthomastaunton.com/event/events-3-2/2029-11-04/
LOCATION:Main Church
CATEGORIES:Worship
ATTACH;FMTTYPE=image/jpeg:https://stthomastaunton.com/wp-content/uploads/2024/05/Procession-Easter-Sunday-2022.jpg
END:VEVENT
BEGIN:VEVENT
DTSTART;TZID=America/New_York:20291111T100000
DTEND;TZID=America/New_York:20291111T110000
DTSTAMP:20260420T012051
CREATED:20230908T153154Z
LAST-MODIFIED:20240514T163553Z
UID:10000434-1889085600-1889089200@stthomastaunton.com
SUMMARY:Service of Holy Eucharist
DESCRIPTION:Join us Sunday mornings at 10:00 am in the Sanctuary for the Service of Holy Eucharist.  This is followed by fellowship in the parish hall.
URL:https://stthomastaunton.com/event/events-3-2/2029-11-11/
LOCATION:Main Church
CATEGORIES:Worship
ATTACH;FMTTYPE=image/jpeg:https://stthomastaunton.com/wp-content/uploads/2024/05/Procession-Easter-Sunday-2022.jpg
END:VEVENT
BEGIN:VEVENT
DTSTART;TZID=America/New_York:20291118T100000
DTEND;TZID=America/New_York:20291118T110000
DTSTAMP:20260420T012051
CREATED:20230908T153154Z
LAST-MODIFIED:20240514T163553Z
UID:10000435-1889690400-1889694000@stthomastaunton.com
SUMMARY:Service of Holy Eucharist
DESCRIPTION:Join us Sunday mornings at 10:00 am in the Sanctuary for the Service of Holy Eucharist.  This is followed by fellowship in the parish hall.
URL:https://stthomastaunton.com/event/events-3-2/2029-11-18/
LOCATION:Main Church
CATEGORIES:Worship
ATTACH;FMTTYPE=image/jpeg:https://stthomastaunton.com/wp-content/uploads/2024/05/Procession-Easter-Sunday-2022.jpg
END:VEVENT
BEGIN:VEVENT
DTSTART;TZID=America/New_York:20291125T100000
DTEND;TZID=America/New_York:20291125T110000
DTSTAMP:20260420T012051
CREATED:20230908T153154Z
LAST-MODIFIED:20240514T163553Z
UID:10000436-1890295200-1890298800@stthomastaunton.com
SUMMARY:Service of Holy Eucharist
DESCRIPTION:Join us Sunday mornings at 10:00 am in the Sanctuary for the Service of Holy Eucharist.  This is followed by fellowship in the parish hall.
URL:https://stthomastaunton.com/event/events-3-2/2029-11-25/
LOCATION:Main Church
CATEGORIES:Worship
ATTACH;FMTTYPE=image/jpeg:https://stthomastaunton.com/wp-content/uploads/2024/05/Procession-Easter-Sunday-2022.jpg
END:VEVENT
BEGIN:VEVENT
DTSTART;TZID=America/New_York:20291202T100000
DTEND;TZID=America/New_York:20291202T110000
DTSTAMP:20260420T012051
CREATED:20230908T153154Z
LAST-MODIFIED:20240514T163553Z
UID:10000437-1890900000-1890903600@stthomastaunton.com
SUMMARY:Service of Holy Eucharist
DESCRIPTION:Join us Sunday mornings at 10:00 am in the Sanctuary for the Service of Holy Eucharist.  This is followed by fellowship in the parish hall.
URL:https://stthomastaunton.com/event/events-3-2/2029-12-02/
LOCATION:Main Church
CATEGORIES:Worship
ATTACH;FMTTYPE=image/jpeg:https://stthomastaunton.com/wp-content/uploads/2024/05/Procession-Easter-Sunday-2022.jpg
END:VEVENT
BEGIN:VEVENT
DTSTART;TZID=America/New_York:20291209T100000
DTEND;TZID=America/New_York:20291209T110000
DTSTAMP:20260420T012051
CREATED:20230908T153154Z
LAST-MODIFIED:20240514T163553Z
UID:10000438-1891504800-1891508400@stthomastaunton.com
SUMMARY:Service of Holy Eucharist
DESCRIPTION:Join us Sunday mornings at 10:00 am in the Sanctuary for the Service of Holy Eucharist.  This is followed by fellowship in the parish hall.
URL:https://stthomastaunton.com/event/events-3-2/2029-12-09/
LOCATION:Main Church
CATEGORIES:Worship
ATTACH;FMTTYPE=image/jpeg:https://stthomastaunton.com/wp-content/uploads/2024/05/Procession-Easter-Sunday-2022.jpg
END:VEVENT
BEGIN:VEVENT
DTSTART;TZID=America/New_York:20291216T100000
DTEND;TZID=America/New_York:20291216T110000
DTSTAMP:20260420T012051
CREATED:20230908T153154Z
LAST-MODIFIED:20240514T163553Z
UID:10000439-1892109600-1892113200@stthomastaunton.com
SUMMARY:Service of Holy Eucharist
DESCRIPTION:Join us Sunday mornings at 10:00 am in the Sanctuary for the Service of Holy Eucharist.  This is followed by fellowship in the parish hall.
URL:https://stthomastaunton.com/event/events-3-2/2029-12-16/
LOCATION:Main Church
CATEGORIES:Worship
ATTACH;FMTTYPE=image/jpeg:https://stthomastaunton.com/wp-content/uploads/2024/05/Procession-Easter-Sunday-2022.jpg
END:VEVENT
BEGIN:VEVENT
DTSTART;TZID=America/New_York:20291223T100000
DTEND;TZID=America/New_York:20291223T110000
DTSTAMP:20260420T012051
CREATED:20230908T153154Z
LAST-MODIFIED:20240514T163553Z
UID:10000440-1892714400-1892718000@stthomastaunton.com
SUMMARY:Service of Holy Eucharist
DESCRIPTION:Join us Sunday mornings at 10:00 am in the Sanctuary for the Service of Holy Eucharist.  This is followed by fellowship in the parish hall.
URL:https://stthomastaunton.com/event/events-3-2/2029-12-23/
LOCATION:Main Church
CATEGORIES:Worship
ATTACH;FMTTYPE=image/jpeg:https://stthomastaunton.com/wp-content/uploads/2024/05/Procession-Easter-Sunday-2022.jpg
END:VEVENT
BEGIN:VEVENT
DTSTART;TZID=America/New_York:20291230T100000
DTEND;TZID=America/New_York:20291230T110000
DTSTAMP:20260420T012051
CREATED:20230908T153154Z
LAST-MODIFIED:20240514T163553Z
UID:10000441-1893319200-1893322800@stthomastaunton.com
SUMMARY:Service of Holy Eucharist
DESCRIPTION:Join us Sunday mornings at 10:00 am in the Sanctuary for the Service of Holy Eucharist.  This is followed by fellowship in the parish hall.
URL:https://stthomastaunton.com/event/events-3-2/2029-12-30/
LOCATION:Main Church
CATEGORIES:Worship
ATTACH;FMTTYPE=image/jpeg:https://stthomastaunton.com/wp-content/uploads/2024/05/Procession-Easter-Sunday-2022.jpg
END:VEVENT
BEGIN:VEVENT
DTSTART;TZID=America/New_York:20300106T100000
DTEND;TZID=America/New_York:20300106T110000
DTSTAMP:20260420T012051
CREATED:20230908T153154Z
LAST-MODIFIED:20240514T163553Z
UID:10000442-1893924000-1893927600@stthomastaunton.com
SUMMARY:Service of Holy Eucharist
DESCRIPTION:Join us Sunday mornings at 10:00 am in the Sanctuary for the Service of Holy Eucharist.  This is followed by fellowship in the parish hall.
URL:https://stthomastaunton.com/event/events-3-2/2030-01-06/
LOCATION:Main Church
CATEGORIES:Worship
ATTACH;FMTTYPE=image/jpeg:https://stthomastaunton.com/wp-content/uploads/2024/05/Procession-Easter-Sunday-2022.jpg
END:VEVENT
BEGIN:VEVENT
DTSTART;TZID=America/New_York:20300113T100000
DTEND;TZID=America/New_York:20300113T110000
DTSTAMP:20260420T012052
CREATED:20230908T153154Z
LAST-MODIFIED:20240514T163553Z
UID:10000443-1894528800-1894532400@stthomastaunton.com
SUMMARY:Service of Holy Eucharist
DESCRIPTION:Join us Sunday mornings at 10:00 am in the Sanctuary for the Service of Holy Eucharist.  This is followed by fellowship in the parish hall.
URL:https://stthomastaunton.com/event/events-3-2/2030-01-13/
LOCATION:Main Church
CATEGORIES:Worship
ATTACH;FMTTYPE=image/jpeg:https://stthomastaunton.com/wp-content/uploads/2024/05/Procession-Easter-Sunday-2022.jpg
END:VEVENT
BEGIN:VEVENT
DTSTART;TZID=America/New_York:20300120T100000
DTEND;TZID=America/New_York:20300120T110000
DTSTAMP:20260420T012052
CREATED:20230908T153154Z
LAST-MODIFIED:20240514T163553Z
UID:10000444-1895133600-1895137200@stthomastaunton.com
SUMMARY:Service of Holy Eucharist
DESCRIPTION:Join us Sunday mornings at 10:00 am in the Sanctuary for the Service of Holy Eucharist.  This is followed by fellowship in the parish hall.
URL:https://stthomastaunton.com/event/events-3-2/2030-01-20/
LOCATION:Main Church
CATEGORIES:Worship
ATTACH;FMTTYPE=image/jpeg:https://stthomastaunton.com/wp-content/uploads/2024/05/Procession-Easter-Sunday-2022.jpg
END:VEVENT
BEGIN:VEVENT
DTSTART;TZID=America/New_York:20300127T100000
DTEND;TZID=America/New_York:20300127T110000
DTSTAMP:20260420T012052
CREATED:20230908T153154Z
LAST-MODIFIED:20240514T163553Z
UID:10000445-1895738400-1895742000@stthomastaunton.com
SUMMARY:Service of Holy Eucharist
DESCRIPTION:Join us Sunday mornings at 10:00 am in the Sanctuary for the Service of Holy Eucharist.  This is followed by fellowship in the parish hall.
URL:https://stthomastaunton.com/event/events-3-2/2030-01-27/
LOCATION:Main Church
CATEGORIES:Worship
ATTACH;FMTTYPE=image/jpeg:https://stthomastaunton.com/wp-content/uploads/2024/05/Procession-Easter-Sunday-2022.jpg
END:VEVENT
BEGIN:VEVENT
DTSTART;TZID=America/New_York:20300203T100000
DTEND;TZID=America/New_York:20300203T110000
DTSTAMP:20260420T012052
CREATED:20230908T153154Z
LAST-MODIFIED:20240514T163553Z
UID:10000446-1896343200-1896346800@stthomastaunton.com
SUMMARY:Service of Holy Eucharist
DESCRIPTION:Join us Sunday mornings at 10:00 am in the Sanctuary for the Service of Holy Eucharist.  This is followed by fellowship in the parish hall.
URL:https://stthomastaunton.com/event/events-3-2/2030-02-03/
LOCATION:Main Church
CATEGORIES:Worship
ATTACH;FMTTYPE=image/jpeg:https://stthomastaunton.com/wp-content/uploads/2024/05/Procession-Easter-Sunday-2022.jpg
END:VEVENT
BEGIN:VEVENT
DTSTART;TZID=America/New_York:20300210T100000
DTEND;TZID=America/New_York:20300210T110000
DTSTAMP:20260420T012052
CREATED:20230908T153154Z
LAST-MODIFIED:20240514T163553Z
UID:10000447-1896948000-1896951600@stthomastaunton.com
SUMMARY:Service of Holy Eucharist
DESCRIPTION:Join us Sunday mornings at 10:00 am in the Sanctuary for the Service of Holy Eucharist.  This is followed by fellowship in the parish hall.
URL:https://stthomastaunton.com/event/events-3-2/2030-02-10/
LOCATION:Main Church
CATEGORIES:Worship
ATTACH;FMTTYPE=image/jpeg:https://stthomastaunton.com/wp-content/uploads/2024/05/Procession-Easter-Sunday-2022.jpg
END:VEVENT
BEGIN:VEVENT
DTSTART;TZID=America/New_York:20300217T100000
DTEND;TZID=America/New_York:20300217T110000
DTSTAMP:20260420T012052
CREATED:20230908T153154Z
LAST-MODIFIED:20240514T163553Z
UID:10000448-1897552800-1897556400@stthomastaunton.com
SUMMARY:Service of Holy Eucharist
DESCRIPTION:Join us Sunday mornings at 10:00 am in the Sanctuary for the Service of Holy Eucharist.  This is followed by fellowship in the parish hall.
URL:https://stthomastaunton.com/event/events-3-2/2030-02-17/
LOCATION:Main Church
CATEGORIES:Worship
ATTACH;FMTTYPE=image/jpeg:https://stthomastaunton.com/wp-content/uploads/2024/05/Procession-Easter-Sunday-2022.jpg
END:VEVENT
END:VCALENDAR