BEGIN:VCALENDAR
VERSION:2.0
PRODID:-//The Episcopal Church of St. Thomas - ECPv6.15.12.2//NONSGML v1.0//EN
CALSCALE:GREGORIAN
METHOD:PUBLISH
X-WR-CALNAME:The Episcopal Church of St. Thomas
X-ORIGINAL-URL:https://stthomastaunton.com
X-WR-CALDESC:Events for The Episcopal Church of St. Thomas
REFRESH-INTERVAL;VALUE=DURATION:PT1H
X-Robots-Tag:noindex
X-PUBLISHED-TTL:PT1H
BEGIN:VTIMEZONE
TZID:America/New_York
BEGIN:DAYLIGHT
TZOFFSETFROM:-0500
TZOFFSETTO:-0400
TZNAME:EDT
DTSTART:20260308T070000
END:DAYLIGHT
BEGIN:STANDARD
TZOFFSETFROM:-0400
TZOFFSETTO:-0500
TZNAME:EST
DTSTART:20261101T060000
END:STANDARD
BEGIN:DAYLIGHT
TZOFFSETFROM:-0500
TZOFFSETTO:-0400
TZNAME:EDT
DTSTART:20270314T070000
END:DAYLIGHT
BEGIN:STANDARD
TZOFFSETFROM:-0400
TZOFFSETTO:-0500
TZNAME:EST
DTSTART:20271107T060000
END:STANDARD
BEGIN:DAYLIGHT
TZOFFSETFROM:-0500
TZOFFSETTO:-0400
TZNAME:EDT
DTSTART:20280312T070000
END:DAYLIGHT
BEGIN:STANDARD
TZOFFSETFROM:-0400
TZOFFSETTO:-0500
TZNAME:EST
DTSTART:20281105T060000
END:STANDARD
END:VTIMEZONE
BEGIN:VEVENT
DTSTART;TZID=America/New_York:20271205T100000
DTEND;TZID=America/New_York:20271205T110000
DTSTAMP:20260423T064124
CREATED:20230908T153154Z
LAST-MODIFIED:20240514T163553Z
UID:10000328-1828000800-1828004400@stthomastaunton.com
SUMMARY:Service of Holy Eucharist
DESCRIPTION:Join us Sunday mornings at 10:00 am in the Sanctuary for the Service of Holy Eucharist.  This is followed by fellowship in the parish hall.
URL:https://stthomastaunton.com/event/events-3-2/2027-12-05/
LOCATION:Main Church
CATEGORIES:Worship
ATTACH;FMTTYPE=image/jpeg:https://stthomastaunton.com/wp-content/uploads/2024/05/Procession-Easter-Sunday-2022.jpg
END:VEVENT
BEGIN:VEVENT
DTSTART;TZID=America/New_York:20271212T100000
DTEND;TZID=America/New_York:20271212T110000
DTSTAMP:20260423T064124
CREATED:20230908T153154Z
LAST-MODIFIED:20240514T163553Z
UID:10000329-1828605600-1828609200@stthomastaunton.com
SUMMARY:Service of Holy Eucharist
DESCRIPTION:Join us Sunday mornings at 10:00 am in the Sanctuary for the Service of Holy Eucharist.  This is followed by fellowship in the parish hall.
URL:https://stthomastaunton.com/event/events-3-2/2027-12-12/
LOCATION:Main Church
CATEGORIES:Worship
ATTACH;FMTTYPE=image/jpeg:https://stthomastaunton.com/wp-content/uploads/2024/05/Procession-Easter-Sunday-2022.jpg
END:VEVENT
BEGIN:VEVENT
DTSTART;TZID=America/New_York:20271219T100000
DTEND;TZID=America/New_York:20271219T110000
DTSTAMP:20260423T064124
CREATED:20230908T153154Z
LAST-MODIFIED:20240514T163553Z
UID:10000330-1829210400-1829214000@stthomastaunton.com
SUMMARY:Service of Holy Eucharist
DESCRIPTION:Join us Sunday mornings at 10:00 am in the Sanctuary for the Service of Holy Eucharist.  This is followed by fellowship in the parish hall.
URL:https://stthomastaunton.com/event/events-3-2/2027-12-19/
LOCATION:Main Church
CATEGORIES:Worship
ATTACH;FMTTYPE=image/jpeg:https://stthomastaunton.com/wp-content/uploads/2024/05/Procession-Easter-Sunday-2022.jpg
END:VEVENT
BEGIN:VEVENT
DTSTART;TZID=America/New_York:20271226T100000
DTEND;TZID=America/New_York:20271226T110000
DTSTAMP:20260423T064124
CREATED:20230908T153154Z
LAST-MODIFIED:20240514T163553Z
UID:10000331-1829815200-1829818800@stthomastaunton.com
SUMMARY:Service of Holy Eucharist
DESCRIPTION:Join us Sunday mornings at 10:00 am in the Sanctuary for the Service of Holy Eucharist.  This is followed by fellowship in the parish hall.
URL:https://stthomastaunton.com/event/events-3-2/2027-12-26/
LOCATION:Main Church
CATEGORIES:Worship
ATTACH;FMTTYPE=image/jpeg:https://stthomastaunton.com/wp-content/uploads/2024/05/Procession-Easter-Sunday-2022.jpg
END:VEVENT
END:VCALENDAR