BEGIN:VCALENDAR
VERSION:2.0
PRODID:-//The Episcopal Church of St. Thomas - ECPv6.15.12.2//NONSGML v1.0//EN
CALSCALE:GREGORIAN
METHOD:PUBLISH
X-WR-CALNAME:The Episcopal Church of St. Thomas
X-ORIGINAL-URL:https://stthomastaunton.com
X-WR-CALDESC:Events for The Episcopal Church of St. Thomas
REFRESH-INTERVAL;VALUE=DURATION:PT1H
X-Robots-Tag:noindex
X-PUBLISHED-TTL:PT1H
BEGIN:VTIMEZONE
TZID:America/New_York
BEGIN:DAYLIGHT
TZOFFSETFROM:-0500
TZOFFSETTO:-0400
TZNAME:EDT
DTSTART:20260308T070000
END:DAYLIGHT
BEGIN:STANDARD
TZOFFSETFROM:-0400
TZOFFSETTO:-0500
TZNAME:EST
DTSTART:20261101T060000
END:STANDARD
BEGIN:DAYLIGHT
TZOFFSETFROM:-0500
TZOFFSETTO:-0400
TZNAME:EDT
DTSTART:20270314T070000
END:DAYLIGHT
BEGIN:STANDARD
TZOFFSETFROM:-0400
TZOFFSETTO:-0500
TZNAME:EST
DTSTART:20271107T060000
END:STANDARD
BEGIN:DAYLIGHT
TZOFFSETFROM:-0500
TZOFFSETTO:-0400
TZNAME:EDT
DTSTART:20280312T070000
END:DAYLIGHT
BEGIN:STANDARD
TZOFFSETFROM:-0400
TZOFFSETTO:-0500
TZNAME:EST
DTSTART:20281105T060000
END:STANDARD
END:VTIMEZONE
BEGIN:VEVENT
DTSTART;TZID=America/New_York:20270404T100000
DTEND;TZID=America/New_York:20270404T110000
DTSTAMP:20260422T181715
CREATED:20230908T153154Z
LAST-MODIFIED:20240514T163553Z
UID:10000293-1806832800-1806836400@stthomastaunton.com
SUMMARY:Service of Holy Eucharist
DESCRIPTION:Join us Sunday mornings at 10:00 am in the Sanctuary for the Service of Holy Eucharist.  This is followed by fellowship in the parish hall.
URL:https://stthomastaunton.com/event/events-3-2/2027-04-04/
LOCATION:Main Church
CATEGORIES:Worship
ATTACH;FMTTYPE=image/jpeg:https://stthomastaunton.com/wp-content/uploads/2024/05/Procession-Easter-Sunday-2022.jpg
END:VEVENT
BEGIN:VEVENT
DTSTART;TZID=America/New_York:20270411T100000
DTEND;TZID=America/New_York:20270411T110000
DTSTAMP:20260422T181715
CREATED:20230908T153154Z
LAST-MODIFIED:20240514T163553Z
UID:10000294-1807437600-1807441200@stthomastaunton.com
SUMMARY:Service of Holy Eucharist
DESCRIPTION:Join us Sunday mornings at 10:00 am in the Sanctuary for the Service of Holy Eucharist.  This is followed by fellowship in the parish hall.
URL:https://stthomastaunton.com/event/events-3-2/2027-04-11/
LOCATION:Main Church
CATEGORIES:Worship
ATTACH;FMTTYPE=image/jpeg:https://stthomastaunton.com/wp-content/uploads/2024/05/Procession-Easter-Sunday-2022.jpg
END:VEVENT
BEGIN:VEVENT
DTSTART;TZID=America/New_York:20270418T100000
DTEND;TZID=America/New_York:20270418T110000
DTSTAMP:20260422T181715
CREATED:20230908T153154Z
LAST-MODIFIED:20240514T163553Z
UID:10000295-1808042400-1808046000@stthomastaunton.com
SUMMARY:Service of Holy Eucharist
DESCRIPTION:Join us Sunday mornings at 10:00 am in the Sanctuary for the Service of Holy Eucharist.  This is followed by fellowship in the parish hall.
URL:https://stthomastaunton.com/event/events-3-2/2027-04-18/
LOCATION:Main Church
CATEGORIES:Worship
ATTACH;FMTTYPE=image/jpeg:https://stthomastaunton.com/wp-content/uploads/2024/05/Procession-Easter-Sunday-2022.jpg
END:VEVENT
BEGIN:VEVENT
DTSTART;TZID=America/New_York:20270425T100000
DTEND;TZID=America/New_York:20270425T110000
DTSTAMP:20260422T181715
CREATED:20230908T153154Z
LAST-MODIFIED:20240514T163553Z
UID:10000296-1808647200-1808650800@stthomastaunton.com
SUMMARY:Service of Holy Eucharist
DESCRIPTION:Join us Sunday mornings at 10:00 am in the Sanctuary for the Service of Holy Eucharist.  This is followed by fellowship in the parish hall.
URL:https://stthomastaunton.com/event/events-3-2/2027-04-25/
LOCATION:Main Church
CATEGORIES:Worship
ATTACH;FMTTYPE=image/jpeg:https://stthomastaunton.com/wp-content/uploads/2024/05/Procession-Easter-Sunday-2022.jpg
END:VEVENT
END:VCALENDAR