BEGIN:VCALENDAR
VERSION:2.0
PRODID:-//The Episcopal Church of St. Thomas - ECPv6.15.12.2//NONSGML v1.0//EN
CALSCALE:GREGORIAN
METHOD:PUBLISH
X-ORIGINAL-URL:https://stthomastaunton.com
X-WR-CALDESC:Events for The Episcopal Church of St. Thomas
REFRESH-INTERVAL;VALUE=DURATION:PT1H
X-Robots-Tag:noindex
X-PUBLISHED-TTL:PT1H
BEGIN:VTIMEZONE
TZID:America/New_York
BEGIN:DAYLIGHT
TZOFFSETFROM:-0500
TZOFFSETTO:-0400
TZNAME:EDT
DTSTART:20270314T070000
END:DAYLIGHT
BEGIN:STANDARD
TZOFFSETFROM:-0400
TZOFFSETTO:-0500
TZNAME:EST
DTSTART:20271107T060000
END:STANDARD
BEGIN:DAYLIGHT
TZOFFSETFROM:-0500
TZOFFSETTO:-0400
TZNAME:EDT
DTSTART:20280312T070000
END:DAYLIGHT
BEGIN:STANDARD
TZOFFSETFROM:-0400
TZOFFSETTO:-0500
TZNAME:EST
DTSTART:20281105T060000
END:STANDARD
BEGIN:DAYLIGHT
TZOFFSETFROM:-0500
TZOFFSETTO:-0400
TZNAME:EDT
DTSTART:20290311T070000
END:DAYLIGHT
BEGIN:STANDARD
TZOFFSETFROM:-0400
TZOFFSETTO:-0500
TZNAME:EST
DTSTART:20291104T060000
END:STANDARD
BEGIN:DAYLIGHT
TZOFFSETFROM:-0500
TZOFFSETTO:-0400
TZNAME:EDT
DTSTART:20300310T070000
END:DAYLIGHT
BEGIN:STANDARD
TZOFFSETFROM:-0400
TZOFFSETTO:-0500
TZNAME:EST
DTSTART:20301103T060000
END:STANDARD
END:VTIMEZONE
BEGIN:VEVENT
DTSTART;TZID=America/New_York:20281112T100000
DTEND;TZID=America/New_York:20281112T110000
DTSTAMP:20260420T025647
CREATED:20230908T153154Z
LAST-MODIFIED:20240514T163553Z
UID:10000377-1857636000-1857639600@stthomastaunton.com
SUMMARY:Service of Holy Eucharist
DESCRIPTION:Join us Sunday mornings at 10:00 am in the Sanctuary for the Service of Holy Eucharist.  This is followed by fellowship in the parish hall.
URL:https://stthomastaunton.com/event/events-3-2/2028-11-12/
LOCATION:Main Church
CATEGORIES:Worship
ATTACH;FMTTYPE=image/jpeg:https://stthomastaunton.com/wp-content/uploads/2024/05/Procession-Easter-Sunday-2022.jpg
END:VEVENT
BEGIN:VEVENT
DTSTART;TZID=America/New_York:20281119T100000
DTEND;TZID=America/New_York:20281119T110000
DTSTAMP:20260420T025647
CREATED:20230908T153154Z
LAST-MODIFIED:20240514T163553Z
UID:10000378-1858240800-1858244400@stthomastaunton.com
SUMMARY:Service of Holy Eucharist
DESCRIPTION:Join us Sunday mornings at 10:00 am in the Sanctuary for the Service of Holy Eucharist.  This is followed by fellowship in the parish hall.
URL:https://stthomastaunton.com/event/events-3-2/2028-11-19/
LOCATION:Main Church
CATEGORIES:Worship
ATTACH;FMTTYPE=image/jpeg:https://stthomastaunton.com/wp-content/uploads/2024/05/Procession-Easter-Sunday-2022.jpg
END:VEVENT
BEGIN:VEVENT
DTSTART;TZID=America/New_York:20281126T100000
DTEND;TZID=America/New_York:20281126T110000
DTSTAMP:20260420T025647
CREATED:20230908T153154Z
LAST-MODIFIED:20240514T163553Z
UID:10000379-1858845600-1858849200@stthomastaunton.com
SUMMARY:Service of Holy Eucharist
DESCRIPTION:Join us Sunday mornings at 10:00 am in the Sanctuary for the Service of Holy Eucharist.  This is followed by fellowship in the parish hall.
URL:https://stthomastaunton.com/event/events-3-2/2028-11-26/
LOCATION:Main Church
CATEGORIES:Worship
ATTACH;FMTTYPE=image/jpeg:https://stthomastaunton.com/wp-content/uploads/2024/05/Procession-Easter-Sunday-2022.jpg
END:VEVENT
BEGIN:VEVENT
DTSTART;TZID=America/New_York:20281203T100000
DTEND;TZID=America/New_York:20281203T110000
DTSTAMP:20260420T025648
CREATED:20230908T153154Z
LAST-MODIFIED:20240514T163553Z
UID:10000380-1859450400-1859454000@stthomastaunton.com
SUMMARY:Service of Holy Eucharist
DESCRIPTION:Join us Sunday mornings at 10:00 am in the Sanctuary for the Service of Holy Eucharist.  This is followed by fellowship in the parish hall.
URL:https://stthomastaunton.com/event/events-3-2/2028-12-03/
LOCATION:Main Church
CATEGORIES:Worship
ATTACH;FMTTYPE=image/jpeg:https://stthomastaunton.com/wp-content/uploads/2024/05/Procession-Easter-Sunday-2022.jpg
END:VEVENT
BEGIN:VEVENT
DTSTART;TZID=America/New_York:20281210T100000
DTEND;TZID=America/New_York:20281210T110000
DTSTAMP:20260420T025648
CREATED:20230908T153154Z
LAST-MODIFIED:20240514T163553Z
UID:10000381-1860055200-1860058800@stthomastaunton.com
SUMMARY:Service of Holy Eucharist
DESCRIPTION:Join us Sunday mornings at 10:00 am in the Sanctuary for the Service of Holy Eucharist.  This is followed by fellowship in the parish hall.
URL:https://stthomastaunton.com/event/events-3-2/2028-12-10/
LOCATION:Main Church
CATEGORIES:Worship
ATTACH;FMTTYPE=image/jpeg:https://stthomastaunton.com/wp-content/uploads/2024/05/Procession-Easter-Sunday-2022.jpg
END:VEVENT
BEGIN:VEVENT
DTSTART;TZID=America/New_York:20281217T100000
DTEND;TZID=America/New_York:20281217T110000
DTSTAMP:20260420T025648
CREATED:20230908T153154Z
LAST-MODIFIED:20240514T163553Z
UID:10000382-1860660000-1860663600@stthomastaunton.com
SUMMARY:Service of Holy Eucharist
DESCRIPTION:Join us Sunday mornings at 10:00 am in the Sanctuary for the Service of Holy Eucharist.  This is followed by fellowship in the parish hall.
URL:https://stthomastaunton.com/event/events-3-2/2028-12-17/
LOCATION:Main Church
CATEGORIES:Worship
ATTACH;FMTTYPE=image/jpeg:https://stthomastaunton.com/wp-content/uploads/2024/05/Procession-Easter-Sunday-2022.jpg
END:VEVENT
BEGIN:VEVENT
DTSTART;TZID=America/New_York:20281224T100000
DTEND;TZID=America/New_York:20281224T110000
DTSTAMP:20260420T025648
CREATED:20230908T153154Z
LAST-MODIFIED:20240514T163553Z
UID:10000383-1861264800-1861268400@stthomastaunton.com
SUMMARY:Service of Holy Eucharist
DESCRIPTION:Join us Sunday mornings at 10:00 am in the Sanctuary for the Service of Holy Eucharist.  This is followed by fellowship in the parish hall.
URL:https://stthomastaunton.com/event/events-3-2/2028-12-24/
LOCATION:Main Church
CATEGORIES:Worship
ATTACH;FMTTYPE=image/jpeg:https://stthomastaunton.com/wp-content/uploads/2024/05/Procession-Easter-Sunday-2022.jpg
END:VEVENT
BEGIN:VEVENT
DTSTART;TZID=America/New_York:20281231T100000
DTEND;TZID=America/New_York:20281231T110000
DTSTAMP:20260420T025648
CREATED:20230908T153154Z
LAST-MODIFIED:20240514T163553Z
UID:10000384-1861869600-1861873200@stthomastaunton.com
SUMMARY:Service of Holy Eucharist
DESCRIPTION:Join us Sunday mornings at 10:00 am in the Sanctuary for the Service of Holy Eucharist.  This is followed by fellowship in the parish hall.
URL:https://stthomastaunton.com/event/events-3-2/2028-12-31/
LOCATION:Main Church
CATEGORIES:Worship
ATTACH;FMTTYPE=image/jpeg:https://stthomastaunton.com/wp-content/uploads/2024/05/Procession-Easter-Sunday-2022.jpg
END:VEVENT
BEGIN:VEVENT
DTSTART;TZID=America/New_York:20290107T100000
DTEND;TZID=America/New_York:20290107T110000
DTSTAMP:20260420T025648
CREATED:20230908T153154Z
LAST-MODIFIED:20240514T163553Z
UID:10000389-1862474400-1862478000@stthomastaunton.com
SUMMARY:Service of Holy Eucharist
DESCRIPTION:Join us Sunday mornings at 10:00 am in the Sanctuary for the Service of Holy Eucharist.  This is followed by fellowship in the parish hall.
URL:https://stthomastaunton.com/event/events-3-2/2029-01-07/
LOCATION:Main Church
CATEGORIES:Worship
ATTACH;FMTTYPE=image/jpeg:https://stthomastaunton.com/wp-content/uploads/2024/05/Procession-Easter-Sunday-2022.jpg
END:VEVENT
BEGIN:VEVENT
DTSTART;TZID=America/New_York:20290114T100000
DTEND;TZID=America/New_York:20290114T110000
DTSTAMP:20260420T025648
CREATED:20230908T153154Z
LAST-MODIFIED:20240514T163553Z
UID:10000390-1863079200-1863082800@stthomastaunton.com
SUMMARY:Service of Holy Eucharist
DESCRIPTION:Join us Sunday mornings at 10:00 am in the Sanctuary for the Service of Holy Eucharist.  This is followed by fellowship in the parish hall.
URL:https://stthomastaunton.com/event/events-3-2/2029-01-14/
LOCATION:Main Church
CATEGORIES:Worship
ATTACH;FMTTYPE=image/jpeg:https://stthomastaunton.com/wp-content/uploads/2024/05/Procession-Easter-Sunday-2022.jpg
END:VEVENT
BEGIN:VEVENT
DTSTART;TZID=America/New_York:20290121T100000
DTEND;TZID=America/New_York:20290121T110000
DTSTAMP:20260420T025648
CREATED:20230908T153154Z
LAST-MODIFIED:20240514T163553Z
UID:10000391-1863684000-1863687600@stthomastaunton.com
SUMMARY:Service of Holy Eucharist
DESCRIPTION:Join us Sunday mornings at 10:00 am in the Sanctuary for the Service of Holy Eucharist.  This is followed by fellowship in the parish hall.
URL:https://stthomastaunton.com/event/events-3-2/2029-01-21/
LOCATION:Main Church
CATEGORIES:Worship
ATTACH;FMTTYPE=image/jpeg:https://stthomastaunton.com/wp-content/uploads/2024/05/Procession-Easter-Sunday-2022.jpg
END:VEVENT
BEGIN:VEVENT
DTSTART;TZID=America/New_York:20290128T100000
DTEND;TZID=America/New_York:20290128T110000
DTSTAMP:20260420T025648
CREATED:20230908T153154Z
LAST-MODIFIED:20240514T163553Z
UID:10000392-1864288800-1864292400@stthomastaunton.com
SUMMARY:Service of Holy Eucharist
DESCRIPTION:Join us Sunday mornings at 10:00 am in the Sanctuary for the Service of Holy Eucharist.  This is followed by fellowship in the parish hall.
URL:https://stthomastaunton.com/event/events-3-2/2029-01-28/
LOCATION:Main Church
CATEGORIES:Worship
ATTACH;FMTTYPE=image/jpeg:https://stthomastaunton.com/wp-content/uploads/2024/05/Procession-Easter-Sunday-2022.jpg
END:VEVENT
BEGIN:VEVENT
DTSTART;TZID=America/New_York:20290204T100000
DTEND;TZID=America/New_York:20290204T110000
DTSTAMP:20260420T025648
CREATED:20230908T153154Z
LAST-MODIFIED:20240514T163553Z
UID:10000393-1864893600-1864897200@stthomastaunton.com
SUMMARY:Service of Holy Eucharist
DESCRIPTION:Join us Sunday mornings at 10:00 am in the Sanctuary for the Service of Holy Eucharist.  This is followed by fellowship in the parish hall.
URL:https://stthomastaunton.com/event/events-3-2/2029-02-04/
LOCATION:Main Church
CATEGORIES:Worship
ATTACH;FMTTYPE=image/jpeg:https://stthomastaunton.com/wp-content/uploads/2024/05/Procession-Easter-Sunday-2022.jpg
END:VEVENT
BEGIN:VEVENT
DTSTART;TZID=America/New_York:20290211T100000
DTEND;TZID=America/New_York:20290211T110000
DTSTAMP:20260420T025648
CREATED:20230908T153154Z
LAST-MODIFIED:20240514T163553Z
UID:10000394-1865498400-1865502000@stthomastaunton.com
SUMMARY:Service of Holy Eucharist
DESCRIPTION:Join us Sunday mornings at 10:00 am in the Sanctuary for the Service of Holy Eucharist.  This is followed by fellowship in the parish hall.
URL:https://stthomastaunton.com/event/events-3-2/2029-02-11/
LOCATION:Main Church
CATEGORIES:Worship
ATTACH;FMTTYPE=image/jpeg:https://stthomastaunton.com/wp-content/uploads/2024/05/Procession-Easter-Sunday-2022.jpg
END:VEVENT
BEGIN:VEVENT
DTSTART;TZID=America/New_York:20290218T100000
DTEND;TZID=America/New_York:20290218T110000
DTSTAMP:20260420T025648
CREATED:20230908T153154Z
LAST-MODIFIED:20240514T163553Z
UID:10000395-1866103200-1866106800@stthomastaunton.com
SUMMARY:Service of Holy Eucharist
DESCRIPTION:Join us Sunday mornings at 10:00 am in the Sanctuary for the Service of Holy Eucharist.  This is followed by fellowship in the parish hall.
URL:https://stthomastaunton.com/event/events-3-2/2029-02-18/
LOCATION:Main Church
CATEGORIES:Worship
ATTACH;FMTTYPE=image/jpeg:https://stthomastaunton.com/wp-content/uploads/2024/05/Procession-Easter-Sunday-2022.jpg
END:VEVENT
BEGIN:VEVENT
DTSTART;TZID=America/New_York:20290225T100000
DTEND;TZID=America/New_York:20290225T110000
DTSTAMP:20260420T025648
CREATED:20230908T153154Z
LAST-MODIFIED:20240514T163553Z
UID:10000396-1866708000-1866711600@stthomastaunton.com
SUMMARY:Service of Holy Eucharist
DESCRIPTION:Join us Sunday mornings at 10:00 am in the Sanctuary for the Service of Holy Eucharist.  This is followed by fellowship in the parish hall.
URL:https://stthomastaunton.com/event/events-3-2/2029-02-25/
LOCATION:Main Church
CATEGORIES:Worship
ATTACH;FMTTYPE=image/jpeg:https://stthomastaunton.com/wp-content/uploads/2024/05/Procession-Easter-Sunday-2022.jpg
END:VEVENT
BEGIN:VEVENT
DTSTART;TZID=America/New_York:20290304T100000
DTEND;TZID=America/New_York:20290304T110000
DTSTAMP:20260420T025648
CREATED:20230908T153154Z
LAST-MODIFIED:20240514T163553Z
UID:10000397-1867312800-1867316400@stthomastaunton.com
SUMMARY:Service of Holy Eucharist
DESCRIPTION:Join us Sunday mornings at 10:00 am in the Sanctuary for the Service of Holy Eucharist.  This is followed by fellowship in the parish hall.
URL:https://stthomastaunton.com/event/events-3-2/2029-03-04/
LOCATION:Main Church
CATEGORIES:Worship
ATTACH;FMTTYPE=image/jpeg:https://stthomastaunton.com/wp-content/uploads/2024/05/Procession-Easter-Sunday-2022.jpg
END:VEVENT
BEGIN:VEVENT
DTSTART;TZID=America/New_York:20290311T100000
DTEND;TZID=America/New_York:20290311T110000
DTSTAMP:20260420T025648
CREATED:20230908T153154Z
LAST-MODIFIED:20240514T163553Z
UID:10000398-1867917600-1867921200@stthomastaunton.com
SUMMARY:Service of Holy Eucharist
DESCRIPTION:Join us Sunday mornings at 10:00 am in the Sanctuary for the Service of Holy Eucharist.  This is followed by fellowship in the parish hall.
URL:https://stthomastaunton.com/event/events-3-2/2029-03-11/
LOCATION:Main Church
CATEGORIES:Worship
ATTACH;FMTTYPE=image/jpeg:https://stthomastaunton.com/wp-content/uploads/2024/05/Procession-Easter-Sunday-2022.jpg
END:VEVENT
BEGIN:VEVENT
DTSTART;TZID=America/New_York:20290318T100000
DTEND;TZID=America/New_York:20290318T110000
DTSTAMP:20260420T025648
CREATED:20230908T153154Z
LAST-MODIFIED:20240514T163553Z
UID:10000399-1868522400-1868526000@stthomastaunton.com
SUMMARY:Service of Holy Eucharist
DESCRIPTION:Join us Sunday mornings at 10:00 am in the Sanctuary for the Service of Holy Eucharist.  This is followed by fellowship in the parish hall.
URL:https://stthomastaunton.com/event/events-3-2/2029-03-18/
LOCATION:Main Church
CATEGORIES:Worship
ATTACH;FMTTYPE=image/jpeg:https://stthomastaunton.com/wp-content/uploads/2024/05/Procession-Easter-Sunday-2022.jpg
END:VEVENT
BEGIN:VEVENT
DTSTART;TZID=America/New_York:20290325T100000
DTEND;TZID=America/New_York:20290325T110000
DTSTAMP:20260420T025648
CREATED:20230908T153154Z
LAST-MODIFIED:20240514T163553Z
UID:10000400-1869127200-1869130800@stthomastaunton.com
SUMMARY:Service of Holy Eucharist
DESCRIPTION:Join us Sunday mornings at 10:00 am in the Sanctuary for the Service of Holy Eucharist.  This is followed by fellowship in the parish hall.
URL:https://stthomastaunton.com/event/events-3-2/2029-03-25/
LOCATION:Main Church
CATEGORIES:Worship
ATTACH;FMTTYPE=image/jpeg:https://stthomastaunton.com/wp-content/uploads/2024/05/Procession-Easter-Sunday-2022.jpg
END:VEVENT
BEGIN:VEVENT
DTSTART;TZID=America/New_York:20290401T100000
DTEND;TZID=America/New_York:20290401T110000
DTSTAMP:20260420T025648
CREATED:20230908T153154Z
LAST-MODIFIED:20240514T163553Z
UID:10000401-1869732000-1869735600@stthomastaunton.com
SUMMARY:Service of Holy Eucharist
DESCRIPTION:Join us Sunday mornings at 10:00 am in the Sanctuary for the Service of Holy Eucharist.  This is followed by fellowship in the parish hall.
URL:https://stthomastaunton.com/event/events-3-2/2029-04-01/
LOCATION:Main Church
CATEGORIES:Worship
ATTACH;FMTTYPE=image/jpeg:https://stthomastaunton.com/wp-content/uploads/2024/05/Procession-Easter-Sunday-2022.jpg
END:VEVENT
BEGIN:VEVENT
DTSTART;TZID=America/New_York:20290408T100000
DTEND;TZID=America/New_York:20290408T110000
DTSTAMP:20260420T025648
CREATED:20230908T153154Z
LAST-MODIFIED:20240514T163553Z
UID:10000402-1870336800-1870340400@stthomastaunton.com
SUMMARY:Service of Holy Eucharist
DESCRIPTION:Join us Sunday mornings at 10:00 am in the Sanctuary for the Service of Holy Eucharist.  This is followed by fellowship in the parish hall.
URL:https://stthomastaunton.com/event/events-3-2/2029-04-08/
LOCATION:Main Church
CATEGORIES:Worship
ATTACH;FMTTYPE=image/jpeg:https://stthomastaunton.com/wp-content/uploads/2024/05/Procession-Easter-Sunday-2022.jpg
END:VEVENT
BEGIN:VEVENT
DTSTART;TZID=America/New_York:20290415T100000
DTEND;TZID=America/New_York:20290415T110000
DTSTAMP:20260420T025648
CREATED:20230908T153154Z
LAST-MODIFIED:20240514T163553Z
UID:10000403-1870941600-1870945200@stthomastaunton.com
SUMMARY:Service of Holy Eucharist
DESCRIPTION:Join us Sunday mornings at 10:00 am in the Sanctuary for the Service of Holy Eucharist.  This is followed by fellowship in the parish hall.
URL:https://stthomastaunton.com/event/events-3-2/2029-04-15/
LOCATION:Main Church
CATEGORIES:Worship
ATTACH;FMTTYPE=image/jpeg:https://stthomastaunton.com/wp-content/uploads/2024/05/Procession-Easter-Sunday-2022.jpg
END:VEVENT
BEGIN:VEVENT
DTSTART;TZID=America/New_York:20290422T100000
DTEND;TZID=America/New_York:20290422T110000
DTSTAMP:20260420T025648
CREATED:20230908T153154Z
LAST-MODIFIED:20240514T163553Z
UID:10000404-1871546400-1871550000@stthomastaunton.com
SUMMARY:Service of Holy Eucharist
DESCRIPTION:Join us Sunday mornings at 10:00 am in the Sanctuary for the Service of Holy Eucharist.  This is followed by fellowship in the parish hall.
URL:https://stthomastaunton.com/event/events-3-2/2029-04-22/
LOCATION:Main Church
CATEGORIES:Worship
ATTACH;FMTTYPE=image/jpeg:https://stthomastaunton.com/wp-content/uploads/2024/05/Procession-Easter-Sunday-2022.jpg
END:VEVENT
BEGIN:VEVENT
DTSTART;TZID=America/New_York:20290429T100000
DTEND;TZID=America/New_York:20290429T110000
DTSTAMP:20260420T025648
CREATED:20230908T153154Z
LAST-MODIFIED:20240514T163553Z
UID:10000405-1872151200-1872154800@stthomastaunton.com
SUMMARY:Service of Holy Eucharist
DESCRIPTION:Join us Sunday mornings at 10:00 am in the Sanctuary for the Service of Holy Eucharist.  This is followed by fellowship in the parish hall.
URL:https://stthomastaunton.com/event/events-3-2/2029-04-29/
LOCATION:Main Church
CATEGORIES:Worship
ATTACH;FMTTYPE=image/jpeg:https://stthomastaunton.com/wp-content/uploads/2024/05/Procession-Easter-Sunday-2022.jpg
END:VEVENT
BEGIN:VEVENT
DTSTART;TZID=America/New_York:20290506T100000
DTEND;TZID=America/New_York:20290506T110000
DTSTAMP:20260420T025648
CREATED:20230908T153154Z
LAST-MODIFIED:20240514T163553Z
UID:10000406-1872756000-1872759600@stthomastaunton.com
SUMMARY:Service of Holy Eucharist
DESCRIPTION:Join us Sunday mornings at 10:00 am in the Sanctuary for the Service of Holy Eucharist.  This is followed by fellowship in the parish hall.
URL:https://stthomastaunton.com/event/events-3-2/2029-05-06/
LOCATION:Main Church
CATEGORIES:Worship
ATTACH;FMTTYPE=image/jpeg:https://stthomastaunton.com/wp-content/uploads/2024/05/Procession-Easter-Sunday-2022.jpg
END:VEVENT
BEGIN:VEVENT
DTSTART;TZID=America/New_York:20290513T100000
DTEND;TZID=America/New_York:20290513T110000
DTSTAMP:20260420T025648
CREATED:20230908T153154Z
LAST-MODIFIED:20240514T163553Z
UID:10000407-1873360800-1873364400@stthomastaunton.com
SUMMARY:Service of Holy Eucharist
DESCRIPTION:Join us Sunday mornings at 10:00 am in the Sanctuary for the Service of Holy Eucharist.  This is followed by fellowship in the parish hall.
URL:https://stthomastaunton.com/event/events-3-2/2029-05-13/
LOCATION:Main Church
CATEGORIES:Worship
ATTACH;FMTTYPE=image/jpeg:https://stthomastaunton.com/wp-content/uploads/2024/05/Procession-Easter-Sunday-2022.jpg
END:VEVENT
BEGIN:VEVENT
DTSTART;TZID=America/New_York:20290520T100000
DTEND;TZID=America/New_York:20290520T110000
DTSTAMP:20260420T025648
CREATED:20230908T153154Z
LAST-MODIFIED:20240514T163553Z
UID:10000409-1873965600-1873969200@stthomastaunton.com
SUMMARY:Service of Holy Eucharist
DESCRIPTION:Join us Sunday mornings at 10:00 am in the Sanctuary for the Service of Holy Eucharist.  This is followed by fellowship in the parish hall.
URL:https://stthomastaunton.com/event/events-3-2/2029-05-20/
LOCATION:Main Church
CATEGORIES:Worship
ATTACH;FMTTYPE=image/jpeg:https://stthomastaunton.com/wp-content/uploads/2024/05/Procession-Easter-Sunday-2022.jpg
END:VEVENT
BEGIN:VEVENT
DTSTART;TZID=America/New_York:20290527T100000
DTEND;TZID=America/New_York:20290527T110000
DTSTAMP:20260420T025648
CREATED:20230908T153154Z
LAST-MODIFIED:20240514T163553Z
UID:10000410-1874570400-1874574000@stthomastaunton.com
SUMMARY:Service of Holy Eucharist
DESCRIPTION:Join us Sunday mornings at 10:00 am in the Sanctuary for the Service of Holy Eucharist.  This is followed by fellowship in the parish hall.
URL:https://stthomastaunton.com/event/events-3-2/2029-05-27/
LOCATION:Main Church
CATEGORIES:Worship
ATTACH;FMTTYPE=image/jpeg:https://stthomastaunton.com/wp-content/uploads/2024/05/Procession-Easter-Sunday-2022.jpg
END:VEVENT
BEGIN:VEVENT
DTSTART;TZID=America/New_York:20290603T100000
DTEND;TZID=America/New_York:20290603T110000
DTSTAMP:20260420T025648
CREATED:20230908T153154Z
LAST-MODIFIED:20240514T163553Z
UID:10000411-1875175200-1875178800@stthomastaunton.com
SUMMARY:Service of Holy Eucharist
DESCRIPTION:Join us Sunday mornings at 10:00 am in the Sanctuary for the Service of Holy Eucharist.  This is followed by fellowship in the parish hall.
URL:https://stthomastaunton.com/event/events-3-2/2029-06-03/
LOCATION:Main Church
CATEGORIES:Worship
ATTACH;FMTTYPE=image/jpeg:https://stthomastaunton.com/wp-content/uploads/2024/05/Procession-Easter-Sunday-2022.jpg
END:VEVENT
END:VCALENDAR