BEGIN:VCALENDAR
VERSION:2.0
PRODID:-//The Episcopal Church of St. Thomas - ECPv6.15.12.2//NONSGML v1.0//EN
CALSCALE:GREGORIAN
METHOD:PUBLISH
X-WR-CALNAME:The Episcopal Church of St. Thomas
X-ORIGINAL-URL:https://stthomastaunton.com
X-WR-CALDESC:Events for The Episcopal Church of St. Thomas
REFRESH-INTERVAL;VALUE=DURATION:PT1H
X-Robots-Tag:noindex
X-PUBLISHED-TTL:PT1H
BEGIN:VTIMEZONE
TZID:America/New_York
BEGIN:DAYLIGHT
TZOFFSETFROM:-0500
TZOFFSETTO:-0400
TZNAME:EDT
DTSTART:20270314T070000
END:DAYLIGHT
BEGIN:STANDARD
TZOFFSETFROM:-0400
TZOFFSETTO:-0500
TZNAME:EST
DTSTART:20271107T060000
END:STANDARD
BEGIN:DAYLIGHT
TZOFFSETFROM:-0500
TZOFFSETTO:-0400
TZNAME:EDT
DTSTART:20280312T070000
END:DAYLIGHT
BEGIN:STANDARD
TZOFFSETFROM:-0400
TZOFFSETTO:-0500
TZNAME:EST
DTSTART:20281105T060000
END:STANDARD
BEGIN:DAYLIGHT
TZOFFSETFROM:-0500
TZOFFSETTO:-0400
TZNAME:EDT
DTSTART:20290311T070000
END:DAYLIGHT
BEGIN:STANDARD
TZOFFSETFROM:-0400
TZOFFSETTO:-0500
TZNAME:EST
DTSTART:20291104T060000
END:STANDARD
BEGIN:DAYLIGHT
TZOFFSETFROM:-0500
TZOFFSETTO:-0400
TZNAME:EDT
DTSTART:20300310T070000
END:DAYLIGHT
BEGIN:STANDARD
TZOFFSETFROM:-0400
TZOFFSETTO:-0500
TZNAME:EST
DTSTART:20301103T060000
END:STANDARD
END:VTIMEZONE
BEGIN:VEVENT
DTSTART;TZID=America/New_York:20280709T100000
DTEND;TZID=America/New_York:20280709T110000
DTSTAMP:20260420T034201
CREATED:20230908T153154Z
LAST-MODIFIED:20240514T163553Z
UID:10000359-1846749600-1846753200@stthomastaunton.com
SUMMARY:Service of Holy Eucharist
DESCRIPTION:Join us Sunday mornings at 10:00 am in the Sanctuary for the Service of Holy Eucharist.  This is followed by fellowship in the parish hall.
URL:https://stthomastaunton.com/event/events-3-2/2028-07-09/
LOCATION:Main Church
CATEGORIES:Worship
ATTACH;FMTTYPE=image/jpeg:https://stthomastaunton.com/wp-content/uploads/2024/05/Procession-Easter-Sunday-2022.jpg
END:VEVENT
BEGIN:VEVENT
DTSTART;TZID=America/New_York:20280716T100000
DTEND;TZID=America/New_York:20280716T110000
DTSTAMP:20260420T034201
CREATED:20230908T153154Z
LAST-MODIFIED:20240514T163553Z
UID:10000360-1847354400-1847358000@stthomastaunton.com
SUMMARY:Service of Holy Eucharist
DESCRIPTION:Join us Sunday mornings at 10:00 am in the Sanctuary for the Service of Holy Eucharist.  This is followed by fellowship in the parish hall.
URL:https://stthomastaunton.com/event/events-3-2/2028-07-16/
LOCATION:Main Church
CATEGORIES:Worship
ATTACH;FMTTYPE=image/jpeg:https://stthomastaunton.com/wp-content/uploads/2024/05/Procession-Easter-Sunday-2022.jpg
END:VEVENT
BEGIN:VEVENT
DTSTART;TZID=America/New_York:20280723T100000
DTEND;TZID=America/New_York:20280723T110000
DTSTAMP:20260420T034201
CREATED:20230908T153154Z
LAST-MODIFIED:20240514T163553Z
UID:10000361-1847959200-1847962800@stthomastaunton.com
SUMMARY:Service of Holy Eucharist
DESCRIPTION:Join us Sunday mornings at 10:00 am in the Sanctuary for the Service of Holy Eucharist.  This is followed by fellowship in the parish hall.
URL:https://stthomastaunton.com/event/events-3-2/2028-07-23/
LOCATION:Main Church
CATEGORIES:Worship
ATTACH;FMTTYPE=image/jpeg:https://stthomastaunton.com/wp-content/uploads/2024/05/Procession-Easter-Sunday-2022.jpg
END:VEVENT
BEGIN:VEVENT
DTSTART;TZID=America/New_York:20280730T100000
DTEND;TZID=America/New_York:20280730T110000
DTSTAMP:20260420T034201
CREATED:20230908T153154Z
LAST-MODIFIED:20240514T163553Z
UID:10000362-1848564000-1848567600@stthomastaunton.com
SUMMARY:Service of Holy Eucharist
DESCRIPTION:Join us Sunday mornings at 10:00 am in the Sanctuary for the Service of Holy Eucharist.  This is followed by fellowship in the parish hall.
URL:https://stthomastaunton.com/event/events-3-2/2028-07-30/
LOCATION:Main Church
CATEGORIES:Worship
ATTACH;FMTTYPE=image/jpeg:https://stthomastaunton.com/wp-content/uploads/2024/05/Procession-Easter-Sunday-2022.jpg
END:VEVENT
BEGIN:VEVENT
DTSTART;TZID=America/New_York:20280806T100000
DTEND;TZID=America/New_York:20280806T110000
DTSTAMP:20260420T034201
CREATED:20230908T153154Z
LAST-MODIFIED:20240514T163553Z
UID:10000363-1849168800-1849172400@stthomastaunton.com
SUMMARY:Service of Holy Eucharist
DESCRIPTION:Join us Sunday mornings at 10:00 am in the Sanctuary for the Service of Holy Eucharist.  This is followed by fellowship in the parish hall.
URL:https://stthomastaunton.com/event/events-3-2/2028-08-06/
LOCATION:Main Church
CATEGORIES:Worship
ATTACH;FMTTYPE=image/jpeg:https://stthomastaunton.com/wp-content/uploads/2024/05/Procession-Easter-Sunday-2022.jpg
END:VEVENT
BEGIN:VEVENT
DTSTART;TZID=America/New_York:20280813T100000
DTEND;TZID=America/New_York:20280813T110000
DTSTAMP:20260420T034201
CREATED:20230908T153154Z
LAST-MODIFIED:20240514T163553Z
UID:10000364-1849773600-1849777200@stthomastaunton.com
SUMMARY:Service of Holy Eucharist
DESCRIPTION:Join us Sunday mornings at 10:00 am in the Sanctuary for the Service of Holy Eucharist.  This is followed by fellowship in the parish hall.
URL:https://stthomastaunton.com/event/events-3-2/2028-08-13/
LOCATION:Main Church
CATEGORIES:Worship
ATTACH;FMTTYPE=image/jpeg:https://stthomastaunton.com/wp-content/uploads/2024/05/Procession-Easter-Sunday-2022.jpg
END:VEVENT
BEGIN:VEVENT
DTSTART;TZID=America/New_York:20280820T100000
DTEND;TZID=America/New_York:20280820T110000
DTSTAMP:20260420T034201
CREATED:20230908T153154Z
LAST-MODIFIED:20240514T163553Z
UID:10000365-1850378400-1850382000@stthomastaunton.com
SUMMARY:Service of Holy Eucharist
DESCRIPTION:Join us Sunday mornings at 10:00 am in the Sanctuary for the Service of Holy Eucharist.  This is followed by fellowship in the parish hall.
URL:https://stthomastaunton.com/event/events-3-2/2028-08-20/
LOCATION:Main Church
CATEGORIES:Worship
ATTACH;FMTTYPE=image/jpeg:https://stthomastaunton.com/wp-content/uploads/2024/05/Procession-Easter-Sunday-2022.jpg
END:VEVENT
BEGIN:VEVENT
DTSTART;TZID=America/New_York:20280827T100000
DTEND;TZID=America/New_York:20280827T110000
DTSTAMP:20260420T034201
CREATED:20230908T153154Z
LAST-MODIFIED:20240514T163553Z
UID:10000366-1850983200-1850986800@stthomastaunton.com
SUMMARY:Service of Holy Eucharist
DESCRIPTION:Join us Sunday mornings at 10:00 am in the Sanctuary for the Service of Holy Eucharist.  This is followed by fellowship in the parish hall.
URL:https://stthomastaunton.com/event/events-3-2/2028-08-27/
LOCATION:Main Church
CATEGORIES:Worship
ATTACH;FMTTYPE=image/jpeg:https://stthomastaunton.com/wp-content/uploads/2024/05/Procession-Easter-Sunday-2022.jpg
END:VEVENT
BEGIN:VEVENT
DTSTART;TZID=America/New_York:20280903T100000
DTEND;TZID=America/New_York:20280903T110000
DTSTAMP:20260420T034201
CREATED:20230908T153154Z
LAST-MODIFIED:20240514T163553Z
UID:10000367-1851588000-1851591600@stthomastaunton.com
SUMMARY:Service of Holy Eucharist
DESCRIPTION:Join us Sunday mornings at 10:00 am in the Sanctuary for the Service of Holy Eucharist.  This is followed by fellowship in the parish hall.
URL:https://stthomastaunton.com/event/events-3-2/2028-09-03/
LOCATION:Main Church
CATEGORIES:Worship
ATTACH;FMTTYPE=image/jpeg:https://stthomastaunton.com/wp-content/uploads/2024/05/Procession-Easter-Sunday-2022.jpg
END:VEVENT
BEGIN:VEVENT
DTSTART;TZID=America/New_York:20280910T100000
DTEND;TZID=America/New_York:20280910T110000
DTSTAMP:20260420T034201
CREATED:20230908T153154Z
LAST-MODIFIED:20240514T163553Z
UID:10000368-1852192800-1852196400@stthomastaunton.com
SUMMARY:Service of Holy Eucharist
DESCRIPTION:Join us Sunday mornings at 10:00 am in the Sanctuary for the Service of Holy Eucharist.  This is followed by fellowship in the parish hall.
URL:https://stthomastaunton.com/event/events-3-2/2028-09-10/
LOCATION:Main Church
CATEGORIES:Worship
ATTACH;FMTTYPE=image/jpeg:https://stthomastaunton.com/wp-content/uploads/2024/05/Procession-Easter-Sunday-2022.jpg
END:VEVENT
BEGIN:VEVENT
DTSTART;TZID=America/New_York:20280917T100000
DTEND;TZID=America/New_York:20280917T110000
DTSTAMP:20260420T034201
CREATED:20230908T153154Z
LAST-MODIFIED:20240514T163553Z
UID:10000369-1852797600-1852801200@stthomastaunton.com
SUMMARY:Service of Holy Eucharist
DESCRIPTION:Join us Sunday mornings at 10:00 am in the Sanctuary for the Service of Holy Eucharist.  This is followed by fellowship in the parish hall.
URL:https://stthomastaunton.com/event/events-3-2/2028-09-17/
LOCATION:Main Church
CATEGORIES:Worship
ATTACH;FMTTYPE=image/jpeg:https://stthomastaunton.com/wp-content/uploads/2024/05/Procession-Easter-Sunday-2022.jpg
END:VEVENT
BEGIN:VEVENT
DTSTART;TZID=America/New_York:20280924T100000
DTEND;TZID=America/New_York:20280924T110000
DTSTAMP:20260420T034201
CREATED:20230908T153154Z
LAST-MODIFIED:20240514T163553Z
UID:10000370-1853402400-1853406000@stthomastaunton.com
SUMMARY:Service of Holy Eucharist
DESCRIPTION:Join us Sunday mornings at 10:00 am in the Sanctuary for the Service of Holy Eucharist.  This is followed by fellowship in the parish hall.
URL:https://stthomastaunton.com/event/events-3-2/2028-09-24/
LOCATION:Main Church
CATEGORIES:Worship
ATTACH;FMTTYPE=image/jpeg:https://stthomastaunton.com/wp-content/uploads/2024/05/Procession-Easter-Sunday-2022.jpg
END:VEVENT
BEGIN:VEVENT
DTSTART;TZID=America/New_York:20281001T100000
DTEND;TZID=America/New_York:20281001T110000
DTSTAMP:20260420T034201
CREATED:20230908T153154Z
LAST-MODIFIED:20240514T163553Z
UID:10000371-1854007200-1854010800@stthomastaunton.com
SUMMARY:Service of Holy Eucharist
DESCRIPTION:Join us Sunday mornings at 10:00 am in the Sanctuary for the Service of Holy Eucharist.  This is followed by fellowship in the parish hall.
URL:https://stthomastaunton.com/event/events-3-2/2028-10-01/
LOCATION:Main Church
CATEGORIES:Worship
ATTACH;FMTTYPE=image/jpeg:https://stthomastaunton.com/wp-content/uploads/2024/05/Procession-Easter-Sunday-2022.jpg
END:VEVENT
BEGIN:VEVENT
DTSTART;TZID=America/New_York:20281008T100000
DTEND;TZID=America/New_York:20281008T110000
DTSTAMP:20260420T034201
CREATED:20230908T153154Z
LAST-MODIFIED:20240514T163553Z
UID:10000372-1854612000-1854615600@stthomastaunton.com
SUMMARY:Service of Holy Eucharist
DESCRIPTION:Join us Sunday mornings at 10:00 am in the Sanctuary for the Service of Holy Eucharist.  This is followed by fellowship in the parish hall.
URL:https://stthomastaunton.com/event/events-3-2/2028-10-08/
LOCATION:Main Church
CATEGORIES:Worship
ATTACH;FMTTYPE=image/jpeg:https://stthomastaunton.com/wp-content/uploads/2024/05/Procession-Easter-Sunday-2022.jpg
END:VEVENT
BEGIN:VEVENT
DTSTART;TZID=America/New_York:20281015T100000
DTEND;TZID=America/New_York:20281015T110000
DTSTAMP:20260420T034201
CREATED:20230908T153154Z
LAST-MODIFIED:20240514T163553Z
UID:10000373-1855216800-1855220400@stthomastaunton.com
SUMMARY:Service of Holy Eucharist
DESCRIPTION:Join us Sunday mornings at 10:00 am in the Sanctuary for the Service of Holy Eucharist.  This is followed by fellowship in the parish hall.
URL:https://stthomastaunton.com/event/events-3-2/2028-10-15/
LOCATION:Main Church
CATEGORIES:Worship
ATTACH;FMTTYPE=image/jpeg:https://stthomastaunton.com/wp-content/uploads/2024/05/Procession-Easter-Sunday-2022.jpg
END:VEVENT
BEGIN:VEVENT
DTSTART;TZID=America/New_York:20281022T100000
DTEND;TZID=America/New_York:20281022T110000
DTSTAMP:20260420T034201
CREATED:20230908T153154Z
LAST-MODIFIED:20240514T163553Z
UID:10000374-1855821600-1855825200@stthomastaunton.com
SUMMARY:Service of Holy Eucharist
DESCRIPTION:Join us Sunday mornings at 10:00 am in the Sanctuary for the Service of Holy Eucharist.  This is followed by fellowship in the parish hall.
URL:https://stthomastaunton.com/event/events-3-2/2028-10-22/
LOCATION:Main Church
CATEGORIES:Worship
ATTACH;FMTTYPE=image/jpeg:https://stthomastaunton.com/wp-content/uploads/2024/05/Procession-Easter-Sunday-2022.jpg
END:VEVENT
BEGIN:VEVENT
DTSTART;TZID=America/New_York:20281029T100000
DTEND;TZID=America/New_York:20281029T110000
DTSTAMP:20260420T034201
CREATED:20230908T153154Z
LAST-MODIFIED:20240514T163553Z
UID:10000375-1856426400-1856430000@stthomastaunton.com
SUMMARY:Service of Holy Eucharist
DESCRIPTION:Join us Sunday mornings at 10:00 am in the Sanctuary for the Service of Holy Eucharist.  This is followed by fellowship in the parish hall.
URL:https://stthomastaunton.com/event/events-3-2/2028-10-29/
LOCATION:Main Church
CATEGORIES:Worship
ATTACH;FMTTYPE=image/jpeg:https://stthomastaunton.com/wp-content/uploads/2024/05/Procession-Easter-Sunday-2022.jpg
END:VEVENT
BEGIN:VEVENT
DTSTART;TZID=America/New_York:20281105T100000
DTEND;TZID=America/New_York:20281105T110000
DTSTAMP:20260420T034201
CREATED:20230908T153154Z
LAST-MODIFIED:20240514T163553Z
UID:10000376-1857031200-1857034800@stthomastaunton.com
SUMMARY:Service of Holy Eucharist
DESCRIPTION:Join us Sunday mornings at 10:00 am in the Sanctuary for the Service of Holy Eucharist.  This is followed by fellowship in the parish hall.
URL:https://stthomastaunton.com/event/events-3-2/2028-11-05/
LOCATION:Main Church
CATEGORIES:Worship
ATTACH;FMTTYPE=image/jpeg:https://stthomastaunton.com/wp-content/uploads/2024/05/Procession-Easter-Sunday-2022.jpg
END:VEVENT
BEGIN:VEVENT
DTSTART;TZID=America/New_York:20281112T100000
DTEND;TZID=America/New_York:20281112T110000
DTSTAMP:20260420T034201
CREATED:20230908T153154Z
LAST-MODIFIED:20240514T163553Z
UID:10000377-1857636000-1857639600@stthomastaunton.com
SUMMARY:Service of Holy Eucharist
DESCRIPTION:Join us Sunday mornings at 10:00 am in the Sanctuary for the Service of Holy Eucharist.  This is followed by fellowship in the parish hall.
URL:https://stthomastaunton.com/event/events-3-2/2028-11-12/
LOCATION:Main Church
CATEGORIES:Worship
ATTACH;FMTTYPE=image/jpeg:https://stthomastaunton.com/wp-content/uploads/2024/05/Procession-Easter-Sunday-2022.jpg
END:VEVENT
BEGIN:VEVENT
DTSTART;TZID=America/New_York:20281119T100000
DTEND;TZID=America/New_York:20281119T110000
DTSTAMP:20260420T034201
CREATED:20230908T153154Z
LAST-MODIFIED:20240514T163553Z
UID:10000378-1858240800-1858244400@stthomastaunton.com
SUMMARY:Service of Holy Eucharist
DESCRIPTION:Join us Sunday mornings at 10:00 am in the Sanctuary for the Service of Holy Eucharist.  This is followed by fellowship in the parish hall.
URL:https://stthomastaunton.com/event/events-3-2/2028-11-19/
LOCATION:Main Church
CATEGORIES:Worship
ATTACH;FMTTYPE=image/jpeg:https://stthomastaunton.com/wp-content/uploads/2024/05/Procession-Easter-Sunday-2022.jpg
END:VEVENT
BEGIN:VEVENT
DTSTART;TZID=America/New_York:20281126T100000
DTEND;TZID=America/New_York:20281126T110000
DTSTAMP:20260420T034201
CREATED:20230908T153154Z
LAST-MODIFIED:20240514T163553Z
UID:10000379-1858845600-1858849200@stthomastaunton.com
SUMMARY:Service of Holy Eucharist
DESCRIPTION:Join us Sunday mornings at 10:00 am in the Sanctuary for the Service of Holy Eucharist.  This is followed by fellowship in the parish hall.
URL:https://stthomastaunton.com/event/events-3-2/2028-11-26/
LOCATION:Main Church
CATEGORIES:Worship
ATTACH;FMTTYPE=image/jpeg:https://stthomastaunton.com/wp-content/uploads/2024/05/Procession-Easter-Sunday-2022.jpg
END:VEVENT
BEGIN:VEVENT
DTSTART;TZID=America/New_York:20281203T100000
DTEND;TZID=America/New_York:20281203T110000
DTSTAMP:20260420T034201
CREATED:20230908T153154Z
LAST-MODIFIED:20240514T163553Z
UID:10000380-1859450400-1859454000@stthomastaunton.com
SUMMARY:Service of Holy Eucharist
DESCRIPTION:Join us Sunday mornings at 10:00 am in the Sanctuary for the Service of Holy Eucharist.  This is followed by fellowship in the parish hall.
URL:https://stthomastaunton.com/event/events-3-2/2028-12-03/
LOCATION:Main Church
CATEGORIES:Worship
ATTACH;FMTTYPE=image/jpeg:https://stthomastaunton.com/wp-content/uploads/2024/05/Procession-Easter-Sunday-2022.jpg
END:VEVENT
BEGIN:VEVENT
DTSTART;TZID=America/New_York:20281210T100000
DTEND;TZID=America/New_York:20281210T110000
DTSTAMP:20260420T034201
CREATED:20230908T153154Z
LAST-MODIFIED:20240514T163553Z
UID:10000381-1860055200-1860058800@stthomastaunton.com
SUMMARY:Service of Holy Eucharist
DESCRIPTION:Join us Sunday mornings at 10:00 am in the Sanctuary for the Service of Holy Eucharist.  This is followed by fellowship in the parish hall.
URL:https://stthomastaunton.com/event/events-3-2/2028-12-10/
LOCATION:Main Church
CATEGORIES:Worship
ATTACH;FMTTYPE=image/jpeg:https://stthomastaunton.com/wp-content/uploads/2024/05/Procession-Easter-Sunday-2022.jpg
END:VEVENT
BEGIN:VEVENT
DTSTART;TZID=America/New_York:20281217T100000
DTEND;TZID=America/New_York:20281217T110000
DTSTAMP:20260420T034201
CREATED:20230908T153154Z
LAST-MODIFIED:20240514T163553Z
UID:10000382-1860660000-1860663600@stthomastaunton.com
SUMMARY:Service of Holy Eucharist
DESCRIPTION:Join us Sunday mornings at 10:00 am in the Sanctuary for the Service of Holy Eucharist.  This is followed by fellowship in the parish hall.
URL:https://stthomastaunton.com/event/events-3-2/2028-12-17/
LOCATION:Main Church
CATEGORIES:Worship
ATTACH;FMTTYPE=image/jpeg:https://stthomastaunton.com/wp-content/uploads/2024/05/Procession-Easter-Sunday-2022.jpg
END:VEVENT
BEGIN:VEVENT
DTSTART;TZID=America/New_York:20281224T100000
DTEND;TZID=America/New_York:20281224T110000
DTSTAMP:20260420T034201
CREATED:20230908T153154Z
LAST-MODIFIED:20240514T163553Z
UID:10000383-1861264800-1861268400@stthomastaunton.com
SUMMARY:Service of Holy Eucharist
DESCRIPTION:Join us Sunday mornings at 10:00 am in the Sanctuary for the Service of Holy Eucharist.  This is followed by fellowship in the parish hall.
URL:https://stthomastaunton.com/event/events-3-2/2028-12-24/
LOCATION:Main Church
CATEGORIES:Worship
ATTACH;FMTTYPE=image/jpeg:https://stthomastaunton.com/wp-content/uploads/2024/05/Procession-Easter-Sunday-2022.jpg
END:VEVENT
BEGIN:VEVENT
DTSTART;TZID=America/New_York:20281231T100000
DTEND;TZID=America/New_York:20281231T110000
DTSTAMP:20260420T034201
CREATED:20230908T153154Z
LAST-MODIFIED:20240514T163553Z
UID:10000384-1861869600-1861873200@stthomastaunton.com
SUMMARY:Service of Holy Eucharist
DESCRIPTION:Join us Sunday mornings at 10:00 am in the Sanctuary for the Service of Holy Eucharist.  This is followed by fellowship in the parish hall.
URL:https://stthomastaunton.com/event/events-3-2/2028-12-31/
LOCATION:Main Church
CATEGORIES:Worship
ATTACH;FMTTYPE=image/jpeg:https://stthomastaunton.com/wp-content/uploads/2024/05/Procession-Easter-Sunday-2022.jpg
END:VEVENT
BEGIN:VEVENT
DTSTART;TZID=America/New_York:20290107T100000
DTEND;TZID=America/New_York:20290107T110000
DTSTAMP:20260420T034201
CREATED:20230908T153154Z
LAST-MODIFIED:20240514T163553Z
UID:10000389-1862474400-1862478000@stthomastaunton.com
SUMMARY:Service of Holy Eucharist
DESCRIPTION:Join us Sunday mornings at 10:00 am in the Sanctuary for the Service of Holy Eucharist.  This is followed by fellowship in the parish hall.
URL:https://stthomastaunton.com/event/events-3-2/2029-01-07/
LOCATION:Main Church
CATEGORIES:Worship
ATTACH;FMTTYPE=image/jpeg:https://stthomastaunton.com/wp-content/uploads/2024/05/Procession-Easter-Sunday-2022.jpg
END:VEVENT
BEGIN:VEVENT
DTSTART;TZID=America/New_York:20290114T100000
DTEND;TZID=America/New_York:20290114T110000
DTSTAMP:20260420T034201
CREATED:20230908T153154Z
LAST-MODIFIED:20240514T163553Z
UID:10000390-1863079200-1863082800@stthomastaunton.com
SUMMARY:Service of Holy Eucharist
DESCRIPTION:Join us Sunday mornings at 10:00 am in the Sanctuary for the Service of Holy Eucharist.  This is followed by fellowship in the parish hall.
URL:https://stthomastaunton.com/event/events-3-2/2029-01-14/
LOCATION:Main Church
CATEGORIES:Worship
ATTACH;FMTTYPE=image/jpeg:https://stthomastaunton.com/wp-content/uploads/2024/05/Procession-Easter-Sunday-2022.jpg
END:VEVENT
BEGIN:VEVENT
DTSTART;TZID=America/New_York:20290121T100000
DTEND;TZID=America/New_York:20290121T110000
DTSTAMP:20260420T034201
CREATED:20230908T153154Z
LAST-MODIFIED:20240514T163553Z
UID:10000391-1863684000-1863687600@stthomastaunton.com
SUMMARY:Service of Holy Eucharist
DESCRIPTION:Join us Sunday mornings at 10:00 am in the Sanctuary for the Service of Holy Eucharist.  This is followed by fellowship in the parish hall.
URL:https://stthomastaunton.com/event/events-3-2/2029-01-21/
LOCATION:Main Church
CATEGORIES:Worship
ATTACH;FMTTYPE=image/jpeg:https://stthomastaunton.com/wp-content/uploads/2024/05/Procession-Easter-Sunday-2022.jpg
END:VEVENT
BEGIN:VEVENT
DTSTART;TZID=America/New_York:20290128T100000
DTEND;TZID=America/New_York:20290128T110000
DTSTAMP:20260420T034201
CREATED:20230908T153154Z
LAST-MODIFIED:20240514T163553Z
UID:10000392-1864288800-1864292400@stthomastaunton.com
SUMMARY:Service of Holy Eucharist
DESCRIPTION:Join us Sunday mornings at 10:00 am in the Sanctuary for the Service of Holy Eucharist.  This is followed by fellowship in the parish hall.
URL:https://stthomastaunton.com/event/events-3-2/2029-01-28/
LOCATION:Main Church
CATEGORIES:Worship
ATTACH;FMTTYPE=image/jpeg:https://stthomastaunton.com/wp-content/uploads/2024/05/Procession-Easter-Sunday-2022.jpg
END:VEVENT
END:VCALENDAR